BEGIN:VCALENDAR
VERSION:2.0
PRODID:-//Bishop Stuart University Guild - ECPv6.15.20//NONSGML v1.0//EN
CALSCALE:GREGORIAN
METHOD:PUBLISH
X-WR-CALNAME:Bishop Stuart University Guild
X-ORIGINAL-URL:https://guild.bsu.ac.ug
X-WR-CALDESC:Events for Bishop Stuart University Guild
REFRESH-INTERVAL;VALUE=DURATION:PT1H
X-Robots-Tag:noindex
X-PUBLISHED-TTL:PT1H
BEGIN:VTIMEZONE
TZID:Africa/Kampala
BEGIN:STANDARD
TZOFFSETFROM:+0300
TZOFFSETTO:+0300
TZNAME:EAT
DTSTART:20230101T000000
END:STANDARD
END:VTIMEZONE
BEGIN:VEVENT
DTSTART;VALUE=DATE:20240804
DTEND;VALUE=DATE:20240805
DTSTAMP:20260421T145828
CREATED:20240626T093714Z
LAST-MODIFIED:20240801T114558Z
UID:10000002-1722729600-1722815999@guild.bsu.ac.ug
SUMMARY:BSU GUILD GOVERNMENTS TOURNAMENT
DESCRIPTION:  \nAll guild governments from the 1st to 20th will participate don’t miss all your favorite Honourables playing . Starting from the Guild presidents upto GRCs and other Guild members across all Governments that have ever ruled in Bishop Stuart Univercity \n. be there  OUR GOD REIGNS 
URL:https://guild.bsu.ac.ug/event/bsu-guild-governments-tournament/
LOCATION:Kakoba Arena Stadium\, kakoba\, MBARARA CITY\, Uganda
ATTACH;FMTTYPE=image/jpeg:https://guild.bsu.ac.ug/wp-content/uploads/2024/08/IMG-20240801-WA0006.jpg
END:VEVENT
END:VCALENDAR